BEGIN:VCALENDAR
VERSION:2.0
PRODID:-//Afrofuturism - ECPv5.14.1//NONSGML v1.0//EN
CALSCALE:GREGORIAN
METHOD:PUBLISH
X-WR-CALNAME:Afrofuturism
X-ORIGINAL-URL:https://afrofuturism.us
X-WR-CALDESC:Events for Afrofuturism
REFRESH-INTERVAL;VALUE=DURATION:PT1H
X-Robots-Tag:noindex
X-PUBLISHED-TTL:PT1H
BEGIN:VTIMEZONE
TZID:America/New_York
BEGIN:DAYLIGHT
TZOFFSETFROM:-0500
TZOFFSETTO:-0400
TZNAME:EDT
DTSTART:20250309T070000
END:DAYLIGHT
BEGIN:STANDARD
TZOFFSETFROM:-0400
TZOFFSETTO:-0500
TZNAME:EST
DTSTART:20251102T060000
END:STANDARD
END:VTIMEZONE
BEGIN:VEVENT
DTSTART;TZID=America/New_York:20250412T150000
DTEND;TZID=America/New_York:20250413T150000
DTSTAMP:20260425T072404
CREATED:20250405T175759Z
LAST-MODIFIED:20250405T182004Z
UID:947-1744470000-1744556400@afrofuturism.us
SUMMARY:Our Earthship
DESCRIPTION:This immersive dance performance created and directed by Jeff Jean-Philippe\, Founder and Artistic Director of OneLove and The Expressive Movement dance company introduces the exploration and wonder of the relationship between Earth (in its many forms) and human interaction. It delves into what it is like to build a relationship with the ground we walk on\, the things we pass by\, and the resources we rely on\, all through a human-centric lens. This experience goes beyond mere observation; it encourages you to engage\, interact\, and connect with the Earth. Together\, we cultivate this relationship\, creating “Our Earth-ship.” \n\n\n\n\n\n\n\nPerformance Dates & Tickets\n\n\n\n\n\n\n\n3pm | Saturday 4/12 | Tickets\n\n\n\n\n\n\n\n7pm | Saturday 4/12 | Tickets\n\n\n\n\n\n\n\n3pm | Sunday 4/13 | Tickets\n\n\n\n\n\n\n\n\n\n\n\n\n\n\n\n\n\n\n\n\n\n\n\nGenerously sponsored by Artists Building Capacity as World Citizens. \n\n\n\n\n\n\n\n\n\n\n\n\n\n\n\n\n\nLearn More About Jeff Jean-Phillippe\n\n\n\n\n\n\n\n\n\n\n\nMy purpose is to guide people to excel in their life because I know they can. I am passionate about playing the role that helps people rediscover a meaningful life full of passion and purpose\, all while I can live a life that I am proud of. I am a man of many trades but mentoring humans through their personal lives\, artistic journeys\, and holistic health\, to achieve a magnificent break-through is where I thrive.Being the Artistic Director and Founder of The Expressive Movement dance company\, Dance Advisor for Positive Street Art\, Hip Hop educator at various studios and institutions in New England\, and nomad of the earth\, I have had the honor of deeply connecting\, exchanging wisdom\, and providing guidance to people all over the world. With these inspiring experiences\, I created my personal brand\, J-Brand\, an organization where I express my purpose through mentorship\, holistic practices\, dance/art\, and comedy.My largest successes are the moments where I achieve pure presence\, as presence is our strongest state of authenticity and love. In a society where our natural order is constantly overstimulated\, I put in work everyday to master this mind and body so I can serve others and bring them closer to their personal truths and purpose in this lifetime.
URL:https://afrofuturism.us/event/our-earthship/
ATTACH;FMTTYPE=image/png:https://afrofuturism.us/wp-content/uploads/2025/04/Our-Earthship-An-Immersive-Dance-Performance.png
END:VEVENT
END:VCALENDAR